BEGIN:VCALENDAR
VERSION:2.0
PRODID:-//Beer - ECPv6.15.13//NONSGML v1.0//EN
CALSCALE:GREGORIAN
METHOD:PUBLISH
X-WR-CALNAME:Beer
X-ORIGINAL-URL:https://beer.axessdata.se
X-WR-CALDESC:Händelser för Beer
REFRESH-INTERVAL;VALUE=DURATION:PT1H
X-Robots-Tag:noindex
X-PUBLISHED-TTL:PT1H
BEGIN:VTIMEZONE
TZID:Europe/Stockholm
BEGIN:DAYLIGHT
TZOFFSETFROM:+0100
TZOFFSETTO:+0200
TZNAME:CEST
DTSTART:20240331T010000
END:DAYLIGHT
BEGIN:STANDARD
TZOFFSETFROM:+0200
TZOFFSETTO:+0100
TZNAME:CET
DTSTART:20241027T010000
END:STANDARD
BEGIN:DAYLIGHT
TZOFFSETFROM:+0100
TZOFFSETTO:+0200
TZNAME:CEST
DTSTART:20250330T010000
END:DAYLIGHT
BEGIN:STANDARD
TZOFFSETFROM:+0200
TZOFFSETTO:+0100
TZNAME:CET
DTSTART:20251026T010000
END:STANDARD
BEGIN:DAYLIGHT
TZOFFSETFROM:+0100
TZOFFSETTO:+0200
TZNAME:CEST
DTSTART:20260329T010000
END:DAYLIGHT
BEGIN:STANDARD
TZOFFSETFROM:+0200
TZOFFSETTO:+0100
TZNAME:CET
DTSTART:20261025T010000
END:STANDARD
BEGIN:DAYLIGHT
TZOFFSETFROM:+0100
TZOFFSETTO:+0200
TZNAME:CEST
DTSTART:20270328T010000
END:DAYLIGHT
BEGIN:STANDARD
TZOFFSETFROM:+0200
TZOFFSETTO:+0100
TZNAME:CET
DTSTART:20271031T010000
END:STANDARD
BEGIN:DAYLIGHT
TZOFFSETFROM:+0100
TZOFFSETTO:+0200
TZNAME:CEST
DTSTART:20280326T010000
END:DAYLIGHT
BEGIN:STANDARD
TZOFFSETFROM:+0200
TZOFFSETTO:+0100
TZNAME:CET
DTSTART:20281029T010000
END:STANDARD
BEGIN:DAYLIGHT
TZOFFSETFROM:+0100
TZOFFSETTO:+0200
TZNAME:CEST
DTSTART:20290325T010000
END:DAYLIGHT
BEGIN:STANDARD
TZOFFSETFROM:+0200
TZOFFSETTO:+0100
TZNAME:CET
DTSTART:20291028T010000
END:STANDARD
BEGIN:DAYLIGHT
TZOFFSETFROM:+0100
TZOFFSETTO:+0200
TZNAME:CEST
DTSTART:20300331T010000
END:DAYLIGHT
BEGIN:STANDARD
TZOFFSETFROM:+0200
TZOFFSETTO:+0100
TZNAME:CET
DTSTART:20301027T010000
END:STANDARD
BEGIN:DAYLIGHT
TZOFFSETFROM:+0100
TZOFFSETTO:+0200
TZNAME:CEST
DTSTART:20310330T010000
END:DAYLIGHT
BEGIN:STANDARD
TZOFFSETFROM:+0200
TZOFFSETTO:+0100
TZNAME:CET
DTSTART:20311026T010000
END:STANDARD
END:VTIMEZONE
BEGIN:VEVENT
DTSTART;TZID=Europe/Stockholm:20250526T080000
DTEND;TZID=Europe/Stockholm:20300530T170000
DTSTAMP:20260421T052447
CREATED:20250513T065910Z
LAST-MODIFIED:20251230T033938Z
UID:3639-1748246400-1906390800@beer.axessdata.se
SUMMARY:Brygg bänk: Titta på festen + öl flygkväll
DESCRIPTION:Ta din plats vid bryggbänken och njut av en expert gjord ölflaska medan du kollar in veckans bästa matcher. Vår utvalda tapp meny innehåller säsongsbetonade höjdpunkter och HD-skärmar ser till att du inte missar ett ögonblick av händelsernas centrum. Perfekt för grupper\, dejter eller solo drickare.
URL:https://beer.axessdata.se/event/brew-bench-watch-party-beer-flight-night/
LOCATION:Beacon Hall\, 128 Kingsway Avenue\, Toronto\, ON\, M6K 1G8\, Canada
CATEGORIES:Provsmaknings Kvällar
ATTACH;FMTTYPE=image/jpeg:https://beer.axessdata.se/wp-content/uploads/2025/05/bild-330.jpg
ORGANIZER;CN="Beer":MAILTO:example@organizer.com
END:VEVENT
BEGIN:VEVENT
DTSTART;TZID=Europe/Stockholm:20250602T080000
DTEND;TZID=Europe/Stockholm:20300606T170000
DTSTAMP:20260421T052447
CREATED:20250514T044132Z
LAST-MODIFIED:20251230T033730Z
UID:3646-1748851200-1906995600@beer.axessdata.se
SUMMARY:Internationell fan fest: Jersey & Ölfest
DESCRIPTION:Kom klädd i ditt favoritlags tröja och höj ett glas för den globala fan domen. Denna ölkväll med internationellt tema firar sportens enighet med temainredning\, global pubmat och ett urval av internationella hantverks öl. Njut av ramsor\, hejarop och fotbollsfeber som aldrig förr.
URL:https://beer.axessdata.se/event/international-fan-fest-jersey-pint-party/
LOCATION:Glasshouse\, 660 12th Avenue\, New York\, NY\, 10019\, United States
CATEGORIES:Provsmaknings Kvällar
ATTACH;FMTTYPE=image/jpeg:https://beer.axessdata.se/wp-content/uploads/2025/05/bild-121.jpg
ORGANIZER;CN="Beer":MAILTO:example@organizer.com
END:VEVENT
END:VCALENDAR